BEGIN:VCALENDAR
VERSION:2.0
PRODID:-//Rural Financial Counselling Service - ECPv6.14.2//NONSGML v1.0//EN
CALSCALE:GREGORIAN
METHOD:PUBLISH
X-WR-CALNAME:Rural Financial Counselling Service
X-ORIGINAL-URL:https://rfcsnr.org.au
X-WR-CALDESC:Events for Rural Financial Counselling Service
REFRESH-INTERVAL;VALUE=DURATION:PT1H
X-Robots-Tag:noindex
X-PUBLISHED-TTL:PT1H
BEGIN:VTIMEZONE
TZID:Australia/Sydney
BEGIN:STANDARD
TZOFFSETFROM:+1100
TZOFFSETTO:+1000
TZNAME:AEST
DTSTART:20250405T160000
END:STANDARD
BEGIN:DAYLIGHT
TZOFFSETFROM:+1000
TZOFFSETTO:+1100
TZNAME:AEDT
DTSTART:20251004T160000
END:DAYLIGHT
END:VTIMEZONE
BEGIN:VEVENT
DTSTART;TZID=Australia/Sydney:20250521T180000
DTEND;TZID=Australia/Sydney:20250521T203000
DTSTAMP:20260425T070054
CREATED:20250506T035244Z
LAST-MODIFIED:20250506T035531Z
UID:10000024-1747850400-1747859400@rfcsnr.org.au
SUMMARY:NSW Farmers Business Plan Ready Tenterfield
DESCRIPTION:NSW Farmers has once again teamed up with the NSW Farm Business Resilience Program and Rural Financial Counselling Service to deliver “Business Plan Ready” workshops across NSW. \n\n\nFollowing on from the popular Bank Ready workshops\, these sessions will allow producers of all commodities and experience levels to work through a farm business plan with the guidance of your local RFCS counsellor. Research shows that farms with structured business plans are better equipped at managing challenges posed by seasonal/ environmental conditions and market volatility\, and maintaining financial stability. \n\n\nThese workshops will be presented by RFCS\, and are free for all members and non-members of NSW Farmers to attend. We would encourage all members of your farms decision making team to come along and take part in this crucial step of your farm’s business journey. \nEvent Details\nWhere: Tenterfield Golf Club\nWhen: Wednesday 21st May from 6:00pm – 8:30pm \n\nAs places are limited\, we ask that you register your attendance here:\nBook Your Seats Today(Opens in a new tab)
URL:https://rfcsnr.org.au/event/bprtenterfield/
LOCATION:Private: Tenterfield Golf Club\, 169 Pelham St\, Tenterfield\, 2372
CATEGORIES:Succession Planning
ATTACH;FMTTYPE=image/jpeg:/wp-content/uploads/2025/05/494226936_1108033228025445_8043704652049463966_n.jpg
END:VEVENT
BEGIN:VEVENT
DTSTART;TZID=Australia/Sydney:20250522T180000
DTEND;TZID=Australia/Sydney:20250522T203000
DTSTAMP:20260425T070054
CREATED:20250506T014454Z
LAST-MODIFIED:20250506T035650Z
UID:10000023-1747936800-1747945800@rfcsnr.org.au
SUMMARY:NSW Farmers Business Plan Ready Armidale
DESCRIPTION:NSW Farmers has once again teamed up with the NSW Farm Business Resilience Program and Rural Financial Counselling Service to deliver “Business Plan Ready” workshops across NSW. \n\n\nFollowing on from the popular Bank Ready workshops\, these sessions will allow producers of all commodities and experience levels to work through a farm business plan with the guidance of your local RFCS counsellor. Research shows that farms with structured business plans are better equipped at managing challenges posed by seasonal/ environmental conditions and market volatility\, and maintaining financial stability. \n\n\nThese workshops will be presented by RFCS\, and are free for all members and non-members of NSW Farmers to attend. We would encourage all members of your farms decision making team to come along and take part in this crucial step of your farm’s business journey. \nEvent Details\nWhere: Armidale City Bowling Club\nWhen: Thursday 22nd May from 6:00pm – 8:30pm \n\nAs places are limited\, we ask that you register your attendance here:\nBook Your Seats Today(Opens in a new tab)
URL:https://rfcsnr.org.au/event/bprarmidale/
LOCATION:Private: Armidale City Bowling Club\, 92/96 Dumaresq St\, Armidale\, NSW\, 2350
CATEGORIES:Succession Planning
ATTACH;FMTTYPE=image/jpeg:/wp-content/uploads/2025/05/494075350_1108034388025329_6461833365782063863_n.jpg
END:VEVENT
END:VCALENDAR